BEGIN:VCALENDAR
VERSION:2.0
PRODID:-//Netzwerk Gesamtschule  Region Osnabrück-Emsland - ECPv6.8.3//NONSGML v1.0//EN
CALSCALE:GREGORIAN
METHOD:PUBLISH
X-ORIGINAL-URL:https://netzwerk-gesamtschule.de
X-WR-CALDESC:Veranstaltungen für Netzwerk Gesamtschule  Region Osnabrück-Emsland
REFRESH-INTERVAL;VALUE=DURATION:PT1H
X-Robots-Tag:noindex
X-PUBLISHED-TTL:PT1H
BEGIN:VTIMEZONE
TZID:UTC
BEGIN:STANDARD
TZOFFSETFROM:+0000
TZOFFSETTO:+0000
TZNAME:UTC
DTSTART:20240101T000000
END:STANDARD
END:VTIMEZONE
BEGIN:VEVENT
DTSTART;TZID=UTC:20240122T190000
DTEND;TZID=UTC:20240122T210000
DTSTAMP:20260420T214049
CREATED:20231108T133622Z
LAST-MODIFIED:20231108T133622Z
UID:194-1705950000-1705957200@netzwerk-gesamtschule.de
SUMMARY:Netzwerktreffen Schulleitungen
DESCRIPTION:
URL:https://netzwerk-gesamtschule.de/event/netzwerktreffen-schulleitungen/
END:VEVENT
END:VCALENDAR