BEGIN:VCALENDAR
VERSION:2.0
PRODID:-//Netzwerk Gesamtschule  Region Osnabrück-Emsland - ECPv6.8.3//NONSGML v1.0//EN
CALSCALE:GREGORIAN
METHOD:PUBLISH
X-ORIGINAL-URL:https://netzwerk-gesamtschule.de
X-WR-CALDESC:Veranstaltungen für Netzwerk Gesamtschule  Region Osnabrück-Emsland
REFRESH-INTERVAL;VALUE=DURATION:PT1H
X-Robots-Tag:noindex
X-PUBLISHED-TTL:PT1H
BEGIN:VTIMEZONE
TZID:Europe/Berlin
BEGIN:DAYLIGHT
TZOFFSETFROM:+0100
TZOFFSETTO:+0200
TZNAME:CEST
DTSTART:20230326T010000
END:DAYLIGHT
BEGIN:STANDARD
TZOFFSETFROM:+0200
TZOFFSETTO:+0100
TZNAME:CET
DTSTART:20231029T010000
END:STANDARD
END:VTIMEZONE
BEGIN:VEVENT
DTSTART;VALUE=DATE:20231106
DTEND;VALUE=DATE:20231109
DTSTAMP:20260421T024621
CREATED:20230331T102542Z
LAST-MODIFIED:20230331T103913Z
UID:57-1699228800-1699487999@netzwerk-gesamtschule.de
SUMMARY:Herbsttagung der Niedersächsischen Gesamtschulleitungen
DESCRIPTION:
URL:https://netzwerk-gesamtschule.de/event/herbsttagung-der-gesamtschulleitungen-der-ggg/
LOCATION:Lagerhalle Osnabrück – Kultur und Kommunikation am Heger Tor\, Rolandsmauer 26\, Osnabrück\, 49074\, Deutschland
CATEGORIES:Veranstaltungen
END:VEVENT
END:VCALENDAR